Workbook

Sheet Sheet1
A1: 姓名 | B1: 学号 | C1: 班级 | D1: 德育基础素质测评得分 | E1: 智育基础素质测评得分 | F1: 体育基础素质测评得分 | G1: 美育基础素质测评得分 | H1: 劳育基础素质测评得分 | I1: 基本素质得分（J） | J1: 德育发展素质测评加分 | K1: 智育发展素质测评加分 | L1: 体育发展素质测评加分 | M1: 美育发展素质测评加分 | N1: 劳育发展素质测评加分 | O1: 发展素质得分（F） | P1: 综合素质得分（Z） | Q1: 综合素质测评等级
A2: 侯帅 | B2: 13240007 | C2: 社体24-1 | D2: 88.12 | E2: 62.99 | F2: 90 | G2: 86.87 | H2: 87.29 | I2: =D2*0.2+E2*0.5+F2*0.1+G2*0.1+H2*0.1 -> 75.535 | J2: 0 | K2: 0 | L2: 0 | M2: 0 | N2: 0 | O2: 0 | P2: =I2*0.6+O2*0.4 -> 45.321 | Q2: 合格
A3: 徐天巍 | B3: 13240013 | C3: 社体24-1 | D3: 82.5 | E3: 66 | F3: 90 | G3: 86.45 | H3: 85.41 | I3: =D3*0.2+E3*0.5+F3*0.1+G3*0.1+H3*0.1 -> 75.686 | J3: 0 | K3: 0 | L3: 0 | M3: 0 | N3: 0 | O3: 0 | P3: =I3*0.6+O3*0.4 -> 45.4116 | Q3: 合格
A4: 王义刚 | B4: 13240016 | C4: 社体24-1 | D4: 88.75 | E4: 81.42 | F4: 90 | G4: 88.12 | H4: 88.33 | I4: =D4*0.2+E4*0.5+F4*0.1+G4*0.1+H4*0.1 -> 85.105 | J4: 0 | K4: 0 | L4: 0 | M4: 0 | N4: 4 | O4: 0.4 | P4: =I4*0.6+O4*0.4 -> 51.223 | Q4: 良好
A5: 李宇坤 | B5: 13240017 | C5: 社体24-1 | D5: 86.04 | E5: 70.7 | F5: 90 | G5: 86.45 | H5: 87.29 | I5: =D5*0.2+E5*0.5+F5*0.1+G5*0.1+H5*0.1 -> 78.932 | J5: 0 | K5: 0 | L5: 0 | M5: 0 | N5: 0 | O5: 0 | P5: =I5*0.6+O5*0.4 -> 47.3592 | Q5: 合格
A6: 孔令书 | B6: 13240019 | C6: 社体24-1 | D6: 80.42 | E6: 63.17 | F6: 90 | G6: 82.29 | H6: 77.91 | I6: =D6*0.2+E6*0.5+F6*0.1+G6*0.1+H6*0.1 -> 72.689 | J6: 0 | K6: 0 | L6: 0 | M6: 0 | N6: 0 | O6: 0 | P6: =I6*0.6+O6*0.4 -> 43.6134 | Q6: 合格
A7: 王琦韬 | B7: 13240020 | C7: 社体24-1 | D7: 87.08 | E7: 82.6 | F7: 90 | G7: 86.87 | H7: 86.45 | I7: =D7*0.2+E7*0.5+F7*0.1+G7*0.1+H7*0.1 -> 85.048 | J7: 0 | K7: 8 | L7: 0 | M7: 0 | N7: 0 | O7: 4 | P7: =I7*0.6+O7*0.4 -> 52.6288 | Q7: 良好
A8: 樊峻星 | B8: 13240022 | C8: 社体24-1 | D8: 89.58 | E8: 88.78 | F8: 90 | G8: 89.16 | H8: 89.58 | I8: =D8*0.2+E8*0.5+F8*0.1+G8*0.1+H8*0.1 -> 89.18 | J8: 8 | K8: 17 | L8: 6 | M8: 0 | N8: 14.4 | O8: 12.14 | P8: =I8*0.6+O8*0.4 -> 58.364 | Q8: 优秀
A9: 刘焕晨 | B9: 13240023 | C9: 社体24-1 | D9: 83.96 | E9: 82.18 | F9: 90 | G9: 84.16 | H9: 84.58 | I9: =D9*0.2+E9*0.5+F9*0.1+G9*0.1+H9*0.1 -> 83.756 | J9: 0 | K9: 4 | L9: 4 | M9: 0 | N9: 4 | O9: 2.8 | P9: =I9*0.6+O9*0.4 -> 51.3736 | Q9: 良好
A10: 曹德水 | B10: 13240026 | C10: 社体24-1 | D10: 83.96 | E10: 80.57 | F10: 90 | G10: 85.83 | H10: 84.16 | I10: =D10*0.2+E10*0.5+F10*0.1+G10*0.1+H10*0.1 -> 83.076 | J10: 0 | K10: 1 | L10: 0 | M10: 0 | N10: 4 | O10: 0.9 | P10: =I10*0.6+O10*0.4 -> 50.2056 | Q10: 良好
A11: 林晋屾 | B11: 13240133 | C11: 社体24-1 | D11: 87.29 | E11: 85.98 | F11: 90 | G11: =(SUM([1]美育!C11:AB11)-MAX([1]美育!C11:AB11)-MIN([1]美育!C11:AB11))/24 -> 87.5 | H11: 86.45 | I11: =D11*0.2+E11*0.5+F11*0.1+G11*0.1+H11*0.1 -> 86.843 | J11: 0 | K11: 11 | L11: 10 | M11: 0 | N11: 0 | O11: 6.5 | P11: =I11*0.6+O11*0.4 -> 54.7058 | Q11: 优秀
A12: 张旭烽 | B12: 13240136 | C12: 社体24-1 | D12: 88.33 | E12: 88.5 | F12: 90 | G12: 86.66 | H12: 87.08 | I12: =D12*0.2+E12*0.5+F12*0.1+G12*0.1+H12*0.1 -> 88.29 | J12: 0 | K12: 12 | L12: 1.5 | M12: 0 | N12: 0 | O12: 6.15 | P12: =I12*0.6+O12*0.4 -> 55.434 | Q12: 优秀
A13: 金硕林 | B13: 13240137 | C13: 社体24-1 | D13: 83.75 | E13: 63.85 | F13: 90 | G13: 87.29 | H13: 84.37 | I13: =D13*0.2+E13*0.5+F13*0.1+G13*0.1+H13*0.1 -> 74.841 | J13: 0 | K13: 0 | L13: 0 | M13: 0 | N13: 0 | O13: 0 | P13: =I13*0.6+O13*0.4 -> 44.9046 | Q13: 合格
A14: 崔子峰 | B14: 13240138 | C14: 社体24-1 | D14: 87.5 | E14: 84.89 | F14: 90 | G14: 86.04 | H14: =(SUM([1]劳育!C14:AB14)-MAX([1]劳育!C14:AB14)-MIN([1]劳育!C14:AB14))/24 -> 86.25 | I14: =D14*0.2+E14*0.5+F14*0.1+G14*0.1+H14*0.1 -> 86.174 | J14: 3 | K14: 11 | L14: 14 | M14: 2 | N14: 14.4 | O14: 9.14 | P14: =I14*0.6+O14*0.4 -> 55.3604 | Q14: 优秀
A15: 胡翔 | B15: 13240232 | C15: 社体24-1 | D15: 84.58 | E15: 77.38 | F15: 90 | G15: 87.08 | H15: 84.79 | I15: =D15*0.2+E15*0.5+F15*0.1+G15*0.1+H15*0.1 -> 81.793 | J15: 0 | K15: 0 | L15: 0 | M15: 0 | N15: 0 | O15: 0 | P15: =I15*0.6+O15*0.4 -> 49.0758 | Q15: 合格
A16: 李煜洲 | B16: 13240310 | C16: 社体24-1 | D16: 84.58 | E16: 73.34 | F16: 90 | G16: 83.33 | H16: 83.54 | I16: =D16*0.2+E16*0.5+F16*0.1+G16*0.1+H16*0.1 -> 79.273 | J16: 0 | K16: 0 | L16: 0 | M16: 0 | N16: 0 | O16: 0 | P16: =I16*0.6+O16*0.4 -> 47.5638 | Q16: 合格
A17: 傅广燃 | B17: 13240311 | C17: 社体24-1 | D17: 87.92 | E17: 79.69 | F17: 90 | G17: 87.7 | H17: 88.12 | I17: =D17*0.2+E17*0.5+F17*0.1+G17*0.1+H17*0.1 -> 84.011 | J17: 0 | K17: 0 | L17: 7 | M17: 0 | N17: 4 | O17: 1.1 | P17: =I17*0.6+O17*0.4 -> 50.8466 | Q17: 良好
A18: 张浩阳 | B18: 13240386 | C18: 社体24-1 | D18: 87.29 | E18: 79.71 | F18: 90 | G18: 86.87 | H18: 85.2 | I18: =D18*0.2+E18*0.5+F18*0.1+G18*0.1+H18*0.1 -> 83.52 | J18: 0 | K18: 0 | L18: 0 | M18: 0 | N18: 12.4 | O18: 1.24 | P18: =I18*0.6+O18*0.4 -> 50.608 | Q18: 良好
A19: 蒋宇 | B19: 13240388 | C19: 社体24-1 | D19: 83.54 | E19: 74.01 | F19: 90 | G19: 84.37 | H19: =(SUM([1]劳育!C19:AB19)-MAX([1]劳育!C19:AB19)-MIN([1]劳育!C19:AB19))/24 -> 82.5 | I19: =D19*0.2+E19*0.5+F19*0.1+G19*0.1+H19*0.1 -> 79.4 | J19: 0 | K19: 1 | L19: 0 | M19: 0 | N19: 0 | O19: 0.5 | P19: =I19*0.6+O19*0.4 -> 47.84 | Q19: 合格
A20: 高瀚泽 | B20: 13240390 | C20: 社体24-1 | D20: 78.12 | E20: 63.51 | F20: 90 | G20: 78.33 | H20: 78.33 | I20: =D20*0.2+E20*0.5+F20*0.1+G20*0.1+H20*0.1 -> 72.045 | J20: 0 | K20: 0 | L20: 0 | M20: 0 | N20: 0 | O20: 0 | P20: =I20*0.6+O20*0.4 -> 43.227 | Q20: 合格
A21: 于仁硕 | B21: 13240391 | C21: 社体24-1 | D21: 88.12 | E21: 84 | F21: 90 | G21: =(SUM([1]美育!C21:AB21)-MAX([1]美育!C21:AB21)-MIN([1]美育!C21:AB21))/24 -> 88.75 | H21: =(SUM([1]劳育!C21:AB21)-MAX([1]劳育!C21:AB21)-MIN([1]劳育!C21:AB21))/24 -> 88.75 | I21: =D21*0.2+E21*0.5+F21*0.1+G21*0.1+H21*0.1 -> 86.374 | J21: 6 | K21: 6 | L21: 8 | M21: 0 | N21: 8 | O21: 5.8 | P21: =I21*0.6+O21*0.4 -> 54.1444 | Q21: 良好
A22: 李志鹏 | B22: 13240534 | C22: 社体24-1 | D22: 83.54 | E22: 63.29 | F22: 90 | G22: 83.12 | H22: 77.7 | I22: =D22*0.2+E22*0.5+F22*0.1+G22*0.1+H22*0.1 -> 73.435 | J22: 0 | K22: 0 | L22: 0 | M22: 0 | N22: 0 | O22: 0 | P22: =I22*0.6+O22*0.4 -> 44.061 | Q22: 合格
A23: 张家祺 | B23: 13240537 | C23: 社体24-1 | D23: 84.17 | E23: 75.95 | F23: 90 | G23: 85.83 | H23: 85.62 | I23: =D23*0.2+E23*0.5+F23*0.1+G23*0.1+H23*0.1 -> 80.954 | J23: 0 | K23: 0 | L23: 0 | M23: 0 | N23: 4 | O23: 0.4 | P23: =I23*0.6+O23*0.4 -> 48.7324 | Q23: 合格
A24: 王冬磊 | B24: 13240540 | C24: 社体24-1 | D24: 87.08 | E24: 78.52 | F24: 90 | G24: 85.83 | H24: 84.37 | I24: =D24*0.2+E24*0.5+F24*0.1+G24*0.1+H24*0.1 -> 82.696 | J24: 3 | K24: 1 | L24: 0 | M24: 1.5 | N24: 0 | O24: 1.25 | P24: =I24*0.6+O24*0.4 -> 50.1176 | Q24: 良好
A25: 徐延通 | B25: 13240542 | C25: 社体24-1 | D25: 88.54 | E25: 84.98 | F25: 90 | G25: 87.7 | H25: 88.33 | I25: =D25*0.2+E25*0.5+F25*0.1+G25*0.1+H25*0.1 -> 86.801 | J25: 5 | K25: 6 | L25: 8 | M25: 5 | N25: 4 | O25: 5.7 | P25: =I25*0.6+O25*0.4 -> 54.3606 | Q25: 优秀
A26: 陈文超 | B26: 13240543 | C26: 社体24-1 | D26: 87.5 | E26: 68.68 | F26: 90 | G26: 86.87 | H26: 87.29 | I26: =D26*0.2+E26*0.5+F26*0.1+G26*0.1+H26*0.1 -> 78.256 | J26: 0 | K26: 0 | L26: 0 | M26: 0 | N26: 0 | O26: 0 | P26: =I26*0.6+O26*0.4 -> 46.9536 | Q26: 合格
A27: 王理文 | B27: 13242881 | C27: 社体24-1 | D27: 87.29 | E27: 77.59 | F27: 90 | G27: 87.7 | H27: 85.2 | I27: =D27*0.2+E27*0.5+F27*0.1+G27*0.1+H27*0.1 -> 82.543 | J27: 0 | K27: 3 | L27: 0 | M27: 0 | N27: 0 | O27: 1.5 | P27: =I27*0.6+O27*0.4 -> 50.1258 | Q27: 良好
A28: 郭磊 | B28: 13243667 | C28: 社体24-1 | D28: 88.54 | E28: 82.73 | F28: 90 | G28: 87.29 | H28: 86.04 | I28: =D28*0.2+E28*0.5+F28*0.1+G28*0.1+H28*0.1 -> 85.406 | J28: 0 | K28: 3 | L28: 0 | M28: 0 | N28: 0 | O28: 1.5 | P28: =I28*0.6+O28*0.4 -> 51.8436 | Q28: 良好
A29: 胡佳豪 | B29: 13244079 | C29: 社体24-1 | D29: 88.75 | E29: 85.25 | F29: 90 | G29: 87.29 | H29: =(SUM([1]劳育!C29:AB29)-MAX([1]劳育!C29:AB29)-MIN([1]劳育!C29:AB29))/24 -> 87.5 | I29: =D29*0.2+E29*0.5+F29*0.1+G29*0.1+H29*0.1 -> 86.854 | J29: 0 | K29: 6 | L29: 14 | M29: 0 | N29: 0 | O29: 4.4 | P29: =I29*0.6+O29*0.4 -> 53.8724 | Q29: 良好
A30: 温晨启 | B30: 13240018 | C30: 社体24-2 | D30: 89.07 | E30: 90.83 | F30: 90 | G30: 88.88 | H30: 89.25 | I30: =D30*0.2+E30*0.5+F30*0.1+G30*0.1+H30*0.1 -> 90.042 | J30: 1 | K30: 24 | L30: 21 | M30: 9.5 | N30: 12.6 | O30: 16.51 | P30: =I30*0.6+O30*0.4 -> 60.6292 | Q30: 优秀
A31: 王正阳 | B31: 13240014 | C31: 社体24-2 | D31: 89.07 | E31: 90.07 | F31: 90 | G31: 88.7 | H31: 89.25 | I31: =D31*0.2+E31*0.5+F31*0.1+G31*0.1+H31*0.1 -> 89.644 | J31: 0.5 | K31: 18 | L31: 21 | M31: 9 | N31: 27 | O31: 14.8 | P31: =I31*0.6+O31*0.4 -> 59.7064 | Q31: 优秀
A32: 孔晟权 | B32: 13240536 | C32: 社体24-2 | D32: 89.07 | E32: 89.43 | F32: 90 | G32: 89.07 | H32: 89.44 | I32: =D32*0.2+E32*0.5+F32*0.1+G32*0.1+H32*0.1 -> 89.38 | J32: 2 | K32: 18 | L32: 8 | M32: 0 | N32: 14.4 | O32: 11.64 | P32: =I32*0.6+O32*0.4 -> 58.284 | Q32: 优秀
A33: 陈思玙 | B33: 13240027 | C33: 社体24-2 | D33: 87.96 | E33: 87.86 | F33: 90 | G33: 88.88 | H33: 88.7 | I33: =D33*0.2+E33*0.5+F33*0.1+G33*0.1+H33*0.1 -> 88.28 | J33: 4 | K33: 16 | L33: 21 | M33: 7 | N33: 9.7 | O33: 12.57 | P33: =I33*0.6+O33*0.4 -> 57.996 | Q33: 优秀
A34: 来熠豪 | B34: 13240387 | C34: 社体24-2 | D34: 89.44 | E34: 87.35 | F34: 90 | G34: 89.07 | H34: 89.25 | I34: =D34*0.2+E34*0.5+F34*0.1+G34*0.1+H34*0.1 -> 88.395 | J34: 0.5 | K34: 10 | L34: 7 | M34: 1.5 | N34: 8 | O34: 6.75 | P34: =I34*0.6+O34*0.4 -> 55.737 | Q34: 优秀
A35: 张林 | B35: 13240308 | C35: 社体24-2 | D35: 88.88 | E35: 86.87 | F35: 90 | G35: 89.07 | H35: 89.44 | I35: =D35*0.2+E35*0.5+F35*0.1+G35*0.1+H35*0.1 -> 88.062 | J35: 21 | K35: 23 | L35: 13 | M35: 10.5 | N35: 24.6 | O35: 20.51 | P35: =I35*0.6+O35*0.4 -> 61.0412 | Q35: 优秀
A36: 孔麒涵 | B36: 13240533 | C36: 社体24-2 | D36: 89.25 | E36: 82.82 | F36: 90 | G36: 89.25 | H36: 89.44 | I36: =D36*0.2+E36*0.5+F36*0.1+G36*0.1+H36*0.1 -> 86.129 | J36: 8.5 | K36: 4 | L36: 7 | M36: 0.5 | N36: 12 | O36: 5.65 | P36: =I36*0.6+O36*0.4 -> 53.9374 | Q36: 良好
A37: 钱轶琦 | B37: 13240389 | C37: 社体24-2 | D37: 89.25 | E37: 81.52 | F37: 90 | G37: 89.07 | H37: 89.07 | I37: =D37*0.2+E37*0.5+F37*0.1+G37*0.1+H37*0.1 -> 85.424 | J37: 0.5 | K37: 6 | L37: 15 | M37: 0 | N37: 12 | O37: 5.8 | P37: =I37*0.6+O37*0.4 -> 53.5744 | Q37: 良好
A38: 刘美博 | B38: 13240535 | C38: 社体24-2 | D38: 88.51 | E38: 81.13 | F38: 90 | G38: 87.96 | H38: 87.77 | I38: =D38*0.2+E38*0.5+F38*0.1+G38*0.1+H38*0.1 -> 84.84 | J38: 0.5 | K38: 0 | L38: 0 | M38: 0 | N38: 0 | O38: 0.1 | P38: =I38*0.6+O38*0.4 -> 50.944 | Q38: 良好
A39: 师功帅 | B39: 13240538 | C39: 社体24-2 | D39: 89.44 | E39: 80.87 | F39: 90 | G39: 89.25 | H39: 89.25 | I39: =D39*0.2+E39*0.5+F39*0.1+G39*0.1+H39*0.1 -> 85.173 | J39: 0.5 | K39: 0 | L39: 15 | M39: 1.5 | N39: 11 | O39: 2.85 | P39: =I39*0.6+O39*0.4 -> 52.2438 | Q39: 良好
A40: 毛佳 | B40: 13240021 | C40: 社体24-2 | D40: 89.25 | E40: 80.46 | F40: 90 | G40: 88.7 | H40: 88.7 | I40: =D40*0.2+E40*0.5+F40*0.1+G40*0.1+H40*0.1 -> 84.82 | J40: 3.5 | K40: 3 | L40: 15 | M40: 0 | N40: 0 | O40: 3.7 | P40: =I40*0.6+O40*0.4 -> 52.372 | Q40: 良好
A41: 王凯 | B41: 13240139 | C41: 社体24-2 | D41: 89.62 | E41: 80.33 | F41: 90 | G41: 88.74 | H41: 89.25 | I41: =D41*0.2+E41*0.5+F41*0.1+G41*0.1+H41*0.1 -> 84.888 | J41: 1 | K41: 2 | L41: 0 | M41: 0 | N41: 4 | O41: 1.6 | P41: =I41*0.6+O41*0.4 -> 51.5728 | Q41: 良好
... A87: 张一好 | B87: 13240036 | C87: 运训24-1 | D87: 88.26 | E87: 77.63 | F87: 90 | G87: 88.26 | H87: 88.07 | I87: =D87*0.2+E87*0.5+F87*0.1+G87*0.1+H87*0.1 -> 83.1 | J87: 0 | K87: 0 | L87: 0 | M87: 0 | N87: 0 | O87: 0 | P87: =I87*0.6+O87*0.4 -> 49.86 | Q87: 良好
A88: 邢世安 | B88: 13240029 | C88: 运训24-2 | D88: 89.8 | E88: 84.78 | F88: 90 | G88: 89.2 | H88: 90 | I88: 87.27 | J88: 0 | K88: 3 | L88: 46 | M88: 0 | N88: 4 | O88: 6.5 | P88: 54.962 | Q88: 良好
A89: 张兴伟 | B89: 13240032 | C89: 运训24-2 | D89: 89.2 | E89: 78.91 | F89: 90 | G89: 88.4 | H89: 89.4 | I89: 84.075 | J89: 0 | K89: 0 | L89: 22 | M89: 0 | N89: 4 | O89: 2.6 | P89: 51.485 | Q89: 良好
A90: 尹世杰 | B90: 13240034 | C90: 运训24-2 | D90: 88 | E90: 63.82 | F90: 90 | G90: 87 | H90: 88 | I90: 76.01 | J90: 0 | K90: 0 | L90: 0 | M90: 0 | N90: 0 | O90: 0 | P90: 45.606 | Q90: 合格
A91: 段雅琪 | B91: 13240037 | C91: 运训24-2 | D91: 89.4 | E91: 63.78 | F91: 90 | G91: 89.2 | H91: 89.4 | I91: 76.63 | J91: 0 | K91: 0 | L91: 0 | M91: 0 | N91: 0 | O91: 0 | P91: 45.978 | Q91: 合格
A92: 陆秋颐 | B92: 13240039 | C92: 运训24-2 | D92: 88.4 | E92: 78.27 | F92: 90 | G92: 88 | H92: 87.4 | I92: 83.355 | J92: 0 | K92: 3 | L92: 0 | M92: 0 | N92: 0 | O92: 1.5 | P92: 50.613 | Q92: 良好
A93: 徐梦龙 | B93: 13240042 | C93: 运训24-2 | D93: 89.2 | E93: 78.38 | F93: 90 | G93: 89.4 | H93: 87.2 | I93: 83.69 | J93: 0 | K93: 2 | L93: 6 | M93: 0 | N93: 0 | O93: 1.6 | P93: 50.854 | Q93: 良好
A94: 郑玥泊 | B94: 13240043 | C94: 运训24-2 | D94: 89.4 | E94: 80.07 | F94: 90 | G94: 88 | H94: 88.4 | I94: 84.555 | J94: 0 | K94: 3 | L94: 0 | M94: 0 | N94: 2 | O94: 1.7 | P94: 51.413 | Q94: 良好
A95: 林璇 | B95: 13240046 | C95: 运训24-2 | D95: 89.6 | E95: 80.24 | F95: 90 | G95: 89.6 | H95: 89.4 | I95: 84.94 | J95: 0 | K95: 0 | L95: 0 | M95: 1.5 | N95: 0 | O95: 0.15 | P95: 51.024 | Q95: 良好
A96: 顾文涛 | B96: 13240048 | C96: 运训24-2 | D96: 85.8 | E96: 58.06 | F96: 90 | G96: 86.6 | H96: 84.6 | I96: 72.31 | J96: 0 | K96: 0 | L96: 0 | M96: 0 | N96: 0 | O96: 0 | P96: 43.386 | Q96: 合格
A97: 薛珺予 | B97: 13240093 | C97: 运训24-2 | D97: 89.2 | E97: 89.78 | F97: 90 | G97: 87.2 | H97: 88 | I97: 89.25 | J97: 0 | K97: 6 | L97: 44 | M97: 0 | N97: 16.4 | O97: 9.04 | P97: 57.166 | Q97: 优秀
A98: 潘羿臣 | B98: 13240097 | C98: 运训24-2 | D98: 87 | E98: 88.08 | F98: 90 | G98: 86 | H98: 86 | I98: 87.64 | J98: 0 | K98: 9 | L98: 0 | M98: 0 | N98: 0 | O98: 4.5 | P98: 54.384 | Q98: 良好
A99: 陈卓涵 | B99: 13240099 | C99: 运训24-2 | D99: 89.2 | E99: 74.28 | F99: 90 | G99: 89.2 | H99: 88.2 | I99: 81.72 | J99: 0 | K99: 0 | L99: 0 | M99: 0 | N99: 0 | O99: 0 | P99: 49.032 | Q99: 合格
... A114: 高子鸥 | B114: 13246049 | C114: 运训24-2 | D114: 89.6 | E114: 84.12 | F114: 90 | G114: 89.8 | H114: 89.8 | I114: 86.94 | J114: 0 | K114: 14.6 | L114: 16 | M114: 0 | N114: 10.5 | O114: 9.95 | P114: 56.144 | Q114: 良好
